BEGIN:VCALENDAR
VERSION:2.0
PRODID:-//Purpose Power Presence - ECPv5.16.4//NONSGML v1.0//EN
CALSCALE:GREGORIAN
METHOD:PUBLISH
X-WR-CALNAME:Purpose Power Presence
X-ORIGINAL-URL:https://purpose-power-presence.com
X-WR-CALDESC:Events for Purpose Power Presence
BEGIN:VTIMEZONE
TZID:Europe/London
BEGIN:DAYLIGHT
TZOFFSETFROM:+0000
TZOFFSETTO:+0100
TZNAME:BST
DTSTART:20260329T010000
END:DAYLIGHT
BEGIN:STANDARD
TZOFFSETFROM:+0100
TZOFFSETTO:+0000
TZNAME:GMT
DTSTART:20261025T010000
END:STANDARD
END:VTIMEZONE
BEGIN:VEVENT
DTSTART;TZID=Europe/London:20260427T090000
DTEND;TZID=Europe/London:20260428T173000
DTSTAMP:20260422T155628
CREATED:20200624T141507Z
LAST-MODIFIED:20251126T120342Z
UID:913-1777280400-1777397400@purpose-power-presence.com
SUMMARY:Athena Leadership Intensive
DESCRIPTION:A 2-day workshop for emerging and senior leaders to: \n\nGet clear on your purpose\nEmbrace ‘healthy power’\nLearn to stay calm in the eye of the storm\nHave your voice heard… and\nConnect with a network of powerful women\n\n  \nFor full information and to book your place\, click here.
URL:https://purpose-power-presence.com/event/athena-leadership-intensive/
LOCATION:Central London\, United Kingdom
ATTACH;FMTTYPE=image/png:https://purpose-power-presence.com/wp-content/uploads/2024/08/Athena-for-LI-event-V2.png
END:VEVENT
END:VCALENDAR