BEGIN:VCALENDAR
VERSION:2.0
PRODID:-//Purpose Power Presence - ECPv5.16.4//NONSGML v1.0//EN
CALSCALE:GREGORIAN
METHOD:PUBLISH
X-WR-CALNAME:Purpose Power Presence
X-ORIGINAL-URL:https://purpose-power-presence.com
X-WR-CALDESC:Events for Purpose Power Presence
BEGIN:VTIMEZONE
TZID:Europe/London
BEGIN:DAYLIGHT
TZOFFSETFROM:+0000
TZOFFSETTO:+0100
TZNAME:BST
DTSTART:20260329T010000
END:DAYLIGHT
BEGIN:STANDARD
TZOFFSETFROM:+0100
TZOFFSETTO:+0000
TZNAME:GMT
DTSTART:20261025T010000
END:STANDARD
END:VTIMEZONE
BEGIN:VEVENT
DTSTART;TZID=Europe/London:20260226T140000
DTEND;TZID=Europe/London:20260226T164500
DTSTAMP:20260420T075852
CREATED:20200929T141647Z
LAST-MODIFIED:20251121T113754Z
UID:1379-1772114400-1772124300@purpose-power-presence.com
SUMMARY:ANIMA Co-Vision Group
DESCRIPTION:Anima is a calm\, dedicated\, confidential group-space to reflect deeply about your work-life. \nThis dedicated and regular small group space will give you clearer perception\, build head- heart-gut alignment\, and provide support for your challenges and ambitions – leading to greater clarity on your next step. \nYou will benefit from encouragement from a group of accomplished women who’ve ‘got your back’\, plus expert input from Hetty and Liz. \nWe welcome women who are coaches\, leaders\, self-employed\, running small businesses or working in large organisations – whether or not you see yourself as a ‘leader’ in the formal sense. \nThe 2026 Anima Co-Vision group will run monthly on Thursdays at 2 – 4.45 pm (UK time) for 8 sessions spread over 9 months. \nClick here for further details.
URL:https://purpose-power-presence.com/event/anima-co-vision-group/
LOCATION:Zoom
ATTACH;FMTTYPE=image/png:https://purpose-power-presence.com/wp-content/uploads/2025/01/Anima-header-2025-with-PPP-logo.png
END:VEVENT
END:VCALENDAR